BEGIN:VCALENDAR
VERSION:2.0
PRODID:icalendar-ruby
CALSCALE:GREGORIAN
METHOD:PUBLISH
BEGIN:VEVENT
DTSTAMP:20260422T235839Z
UID:17-241191@frontierchurchcape.com
DTSTART:20260821T150000Z
DTEND:20260821T163000Z
CLASS:PUBLIC
CREATED:20260310T085633
DESCRIPTION:
LAST-MODIFIED:20260310T085633
LOCATION:@ Frontier Church 
SUMMARY:Men's Bible Study 
URL;VALUE=URI:https://www.frontierchurchcape.com/events/mens-bible-study/20
 26-08-21
END:VEVENT
END:VCALENDAR
