BEGIN:VCALENDAR
VERSION:2.0
PRODID:icalendar-ruby
CALSCALE:GREGORIAN
METHOD:PUBLISH
BEGIN:VEVENT
DTSTAMP:20260422T175327Z
UID:16-241118@frontierchurchcape.com
DTSTART:20260731T150000Z
DTEND:20260731T163000Z
CLASS:PUBLIC
CREATED:20260310T085254
DESCRIPTION:
LAST-MODIFIED:20260310T085254
LOCATION:@ Frontier Church 
SUMMARY:Women's Bible Study
URL;VALUE=URI:https://www.frontierchurchcape.com/events/womens-bible-study/
 2026-07-31
END:VEVENT
END:VCALENDAR
