BEGIN:VCALENDAR
VERSION:2.0
PRODID:icalendar-ruby
CALSCALE:GREGORIAN
METHOD:PUBLISH
BEGIN:VEVENT
DTSTAMP:20260423T003958Z
UID:16-241122@frontierchurchcape.com
DTSTART:20260828T150000Z
DTEND:20260828T163000Z
CLASS:PUBLIC
CREATED:20260310T085254
DESCRIPTION:
LAST-MODIFIED:20260310T085254
LOCATION:@ Frontier Church 
SUMMARY:Women's Bible Study
URL;VALUE=URI:https://www.frontierchurchcape.com/events/womens-bible-study/
 2026-08-28
END:VEVENT
END:VCALENDAR
