BEGIN:VCALENDAR
VERSION:2.0
PRODID:icalendar-ruby
CALSCALE:GREGORIAN
METHOD:PUBLISH
BEGIN:VEVENT
DTSTAMP:20260423T054157Z
UID:16-241125@frontierchurchcape.com
DTSTART:20260918T150000Z
DTEND:20260918T163000Z
CLASS:PUBLIC
CREATED:20260310T085254
DESCRIPTION:
LAST-MODIFIED:20260310T085254
LOCATION:@ Frontier Church 
SUMMARY:Women's Bible Study
URL;VALUE=URI:https://www.frontierchurchcape.com/events/womens-bible-study/
 2026-09-18
END:VEVENT
END:VCALENDAR
